0.25422480432242173
0
0
-0.25399321392276136
2311160.19732937682420015
4641118.03888773079961538
