0.61043509769488702
0
0
-0.61084089207997061
2309428.75652652513235807
4643551.06018773652613163
